BEGIN:VCALENDAR
VERSION:2.0
PRODID: -//CMS 5.0 //NONSGML //DE
BEGIN:VEVENT
SUMMARY:Gottesdienst mit Apostel Korbien
DESCRIPTION:\n\nhttps://wernigerode.nak-nordost.de/db/554517
UID:554517@wernigerode.nak-nordost.de
LOCATION:
CATEGORIES:Gottesdienst
X-ORGANIZER:
STATUS:CONFIRMED
CLASS:PUBLIC
DTSTART:20260506T180000Z
DTEND:20260506T180000Z
DTSTAMP:20260425T140625Z
CREATED:20251103T150218Z
LAST-MODIFIED:20251104T070708Z
BEGIN:VALARM
UID:F29A290C-40AF-11F1-9A36-C8D980372A87
TRIGGER:-PT60M
ACTION:DISPLAY
DESCRIPTION:SUMMARY:Gottesdienst mit Apostel Korbien
END:VALARM
END:VEVENT
END:VCALENDAR
